BEGIN:VCALENDAR
VERSION:2.0
PRODID:-//hacksw/handcal//NONSGML v1.0//EN
CALSCALE:GREGORIAN
BEGIN:VEVENT
DTEND:20240925T173000
UID:d7f6a4af34e2c687873a9d357600c0cc
DTSTAMP:1776691220
DESCRIPTION:自疫情期間社交商務和數碼轉型浪潮興起以來，商務迅速崛起。它將實體購物和電子商務巧妙結合，讓電商可以在廣大的線上觀眾面前進行實時互動直播。 AI 所帶來的無限潛能亦革新了商業運作。從個性化客戶體驗到數據驅動營銷，AI 為提升效率及推動創新帶來了眾多機會，幫助商戶在快速發展的市場中保持領先地位。 參加由 HKPC 生產力局 知創企業家網絡舉辦嘅《AI透視 — AI x 直播帶貨: 勢捲新生代零售風潮》活動，同一眾專業嘉賓演講者交流學習： 跨境直播商務格局、機遇同挑戰 AI 同直播商務協同效應 AI 點樣提升品牌形象、推廣同直播商務表現成功案例分享 立即報名
URL;VALUE=URI: https://www.wepro180.com/event/21290
SUMMARY:AI透視 — AI x 直播帶貨：勢捲新生代零售風潮
DTSTART:20240925T153000
END:VEVENT
END:VCALENDAR