BEGIN:VCALENDAR
VERSION:2.0
PRODID:-//hacksw/handcal//NONSGML v1.0//EN
CALSCALE:GREGORIAN
BEGIN:VEVENT
DTEND:20250916T170000
UID:1882bd2f2bf6be9fe0fa85d49f7bf67c
DTSTAMP:1776759906
DESCRIPTION:香港政府將於 2026 年 1 月 1 日 正式實施《保護關鍵基礎設施（電腦系統）條例》，能源、資訊科技、銀行和金融服務、交通、醫療保健、通訊及廣播等八大行業。 為協助企業了解法例最新要求，並強化網絡安全防禦，edvance 舉辦 Splunk 安全監控工作坊，由專家帶你深入了解條例內容，並透過 Splunk 進行實時監察系統異常行為，提升企業網絡安全防禦能力，確保合規、減輕風險。 工作坊重點： 了解《保護關鍵基礎設施（電腦系統）條例》 內容和相關解決方案 如何運用 Splunk 提升回應速度、減輕 IT 團隊負擔 Splunk Enterprise &amp; Splunk Enterprise Security 方案介紹 基本搜索技巧與 Splunk&#8217;s Search Processing Language (SPL)教學 實戰演練：威脅獵捕與事件調查 *參加工作坊舉行的小遊戲環節，即可贏取限量版 Splunk 精選禮品！
URL;VALUE=URI: https://www.wepro180.com/event/24316
SUMMARY:【工作坊】《保護關鍵基礎設施條例》在即　如何運用Splunk掌握網絡安全主導權？
DTSTART:20250916T143000
END:VEVENT
END:VCALENDAR