BEGIN:VCALENDAR
VERSION:2.0
PRODID:-//hacksw/handcal//NONSGML v1.0//EN
CALSCALE:GREGORIAN
BEGIN:VEVENT
DTEND:20250903T170000
UID:48c75e31a4354a136342ad4215addb1c
DTSTAMP:1776765572
DESCRIPTION:專家將指導你如何運用數據轉化為預測優勢，構建一支能自主思考、協同作戰的 AI 智能團隊，助你比競爭對手更早洞察市場機遇！ 活動詳情 活動重點掌握「中央數據庫」：打通數據孤島，整合多方數據源啟動「AI Agent」團隊：部署五大核心 AI 代理，推動決策自動化實踐「預測式營銷」：從歷史數據邁向未來預測，全面提升投資回報率（ROI） 參加者可獲得 FIMMICK 人工智能代理平台（AI Agents Platform）7 天免費試用！
URL;VALUE=URI: https://www.wepro180.com/event/24050
SUMMARY:【研討會】洞悉市場先機︰AI Agent 實戰全指南
DTSTART:20250903T150000
END:VEVENT
END:VCALENDAR