BEGIN:VCALENDAR
VERSION:2.0
PRODID:-//hacksw/handcal//NONSGML v1.0//EN
CALSCALE:GREGORIAN
BEGIN:VEVENT
DTEND:20241113T160000
UID:93130340ed3c7528a9b052937dff1d5a
DTSTAMP:1776759347
DESCRIPTION:員工係企業網絡安全中最薄弱嘅環節，好多網絡攻擊事件都係因為員工不慎點擊可疑網址所引起，導致電腦中毒，甚至令企業系統遭受入侵。但若然員工嘅安全意識夠晒強，就可以成為企業嘅重要網絡安全防線 立即參加 Green Radar 網上研討會，共同探討可以迅速有效增強員工網絡安全意識嘅方法，研討會內容包括： 員工喺企業安全中嘅角色定位 如何建立有效嘅安全意識培訓計劃 Green Radar 網絡安全培訓平台介紹及示範 Green Radar 釣魚演練方案介紹 立即報名 **研討會參加者有機會獲得 HKD200 HKTVmall 禮券
URL;VALUE=URI: https://www.wepro180.com/event/21718
SUMMARY:【Green Radar 網上研討會】教你有效提升員工網絡安全意識
DTSTART:20241113T150000
END:VEVENT
END:VCALENDAR