BEGIN:VCALENDAR
VERSION:2.0
PRODID:-//hacksw/handcal//NONSGML v1.0//EN
CALSCALE:GREGORIAN
BEGIN:VEVENT
DTEND:20260519T170000
UID:7daab1d63e2ed70199d903d543f9116d
DTSTAMP:1776775243
DESCRIPTION:隨著人工智能（AI）迅速推動各行各業的創新，理解其對知識產權（IP）的影響已成為中小企業、初創企業、研究人員與企業創新者的關鍵課題。穩健的 IP 策略不僅能保障以 AI 驅動的資產，亦可降低與數據及內容管理相關的風險。透過善用這些策略，企業可以開拓全球市場嶄新商機，並穩站於 AI 革命的前沿。活動詳情。 重點議題：&nbsp;&nbsp; 知識產權的新興挑戰 保護 AI 驅動企業創新的策略 AI 與知識產權法的全球趨勢與監管發展
URL;VALUE=URI: https://www.wepro180.com/event/26486
SUMMARY:【HKTISC知識產權培訓】共創未來：創新時代中的人工智能與知識產權
DTSTART:20260519T150000
END:VEVENT
END:VCALENDAR