BEGIN:VCALENDAR
VERSION:2.0
PRODID:-//hacksw/handcal//NONSGML v1.0//EN
CALSCALE:GREGORIAN
BEGIN:VEVENT
DTEND:20260511T120000
UID:6d1c698fefc6fe0a657f6637aca042b7
DTSTAMP:1776704851
DESCRIPTION:現時攻擊者動作越來越快，也越來越難被發現。他們會使用 AI 輔助進行釣魚攻擊和語音詐騙、透過 HTTPS 傳送惡意軟件，以及以竊取資料為優先的勒索軟件攻擊，將重點放在勒索而並非破壞。Signature-based 的偵測方法對此類新型且更具隱蔽性的「patient zero」威脅已經不再有效。 是次研討會將對威脅環境的最新趨勢見解，內容基於 Zscaler ThreatLabz 研究，並分享防禦策略。 參加 Webinar，你將學到： 黑客如何利用 AI 發動社交工程攻擊，繞過傳統防護。 為什麼加密通道、身份濫用，以及常見的 Loaders / Stealers 成為企業中「patient zero」入侵途徑。 防止 Patient Zero 攻擊的最佳做法
URL;VALUE=URI: https://www.wepro180.com/event/26473
SUMMARY:【Webinar】助你了解最新網絡攻擊手法　及早防止事故發生
DTSTART:20260511T110000
END:VEVENT
END:VCALENDAR