BEGIN:VCALENDAR
VERSION:2.0
PRODID:-//hacksw/handcal//NONSGML v1.0//EN
CALSCALE:GREGORIAN
BEGIN:VEVENT
DTEND:20250306T123000
UID:e49c4542d38ea46100925425ff1e4989
DTSTAMP:1776956986
DESCRIPTION:隨著企業逐步採用彈性工作安排和越來越多的 SaaS 應用，IT 團隊面臨著日益嚴峻的可視性和性能挑戰。在分佈式、混合環境中確保無縫、可靠的用戶體驗並非易事。 Palo Alto Networks 的 Autonomous Digital Experience Management（ADEM）憑藉 AI 驅動的修復和原生集成，ADEM 賦予 IT 團隊提供卓越用戶體驗和提升生產力的能力。 加入 Webinar ，聽取 Palo Alto Networks ADEM 專家分享，學習如何： 利用 Real User Monitoring：獲得對每位用戶互動的端到端可視性，實時識別性能瓶頸。 統一團隊：幫助台、桌面、網絡和應用程序團隊都能從單一真實來源中受益，實現更快的根因分析和解決。 簡化運營以 Prisma Access：了解 ADEM 如何輕鬆融入現有的環境，節省時間並減少複雜性。 保持創新領先地位：了解 ADEM 的演進能力，以及如何繼續簡化工作流程並提高用戶滿意度。 立即報名
URL;VALUE=URI: https://www.wepro180.com/event/22593
SUMMARY:【Webinar】幫你提升數碼體驗管理　擁有更強可視性及控制力
DTSTART:20250306T113000
END:VEVENT
END:VCALENDAR