BEGIN:VCALENDAR
VERSION:2.0
PRODID:-//hacksw/handcal//NONSGML v1.0//EN
CALSCALE:GREGORIAN
BEGIN:VEVENT
DTEND:20221109T103000
UID:72a899c9c22d3f5081eb9dbd3863cd87
DTSTAMP:1776759748
DESCRIPTION:無論是希望為企業構建 SaaS 應用程序，還是作為 ISV 希望為客戶託管應用程序，都沒有一刀切的解決方法。在本課程，將學習如何使用 Google Cloud 上可用的構建塊創建可重用且可自定義的架構。
URL;VALUE=URI: https://www.wepro180.com/event/12608
SUMMARY:【Google】透過多租戶技術為你的 SaaS 提供靈活性
DTSTART:20221109T100000
END:VEVENT
END:VCALENDAR