BEGIN:VCALENDAR
VERSION:2.0
PRODID:-//hacksw/handcal//NONSGML v1.0//EN
CALSCALE:GREGORIAN
BEGIN:VEVENT
DTEND:20221207T093000
UID:57b1b10281b0b9d27387fd7843e28a62
DTSTAMP:1776967003
DESCRIPTION:隨著越來越多的企業轉走向多個雲提供商以滿足合規性和監管要求，企業需要能夠提供雲端基礎的多雲軟件解決方案。 本次會議將討論如何利用 Anthos 和 Crossplane 構建具有集中式集群生命週期管理和配置的 GitOps-driven 多雲平台。
URL;VALUE=URI: https://www.wepro180.com/event/12899
SUMMARY:【Google】使用 Anthos 和 Crossplane 管理多雲部署
DTSTART:20221207T090000
END:VEVENT
END:VCALENDAR