BEGIN:VCALENDAR
VERSION:2.0
PRODID:-//hacksw/handcal//NONSGML v1.0//EN
CALSCALE:GREGORIAN
BEGIN:VEVENT
DTEND:20230131T110000
UID:96018e569a93f92d0717184e4e236f65
DTSTAMP:1776760730
DESCRIPTION:網絡威脅的數量和複雜性不斷增加，黑客同時不斷開發新的惡意軟件來避免檢測。為幫助企業戰勝這些不斷演變的威脅，Palo Alto Networks 宣布推出 PAN-OS® 11.0 Nova。 Nova 能阻止的零時差惡意軟件相較於傳統沙盒多 26%，偵測到的植入攻擊多 60%，能夠簡化安全架構，並且協助企業採用網路安全最佳實務。 加入 Webinar，了解 Nova 如何有效阻止零日漏洞。
URL;VALUE=URI: https://www.wepro180.com/event/13420
SUMMARY:【Webinar】助你輕鬆阻止零日漏洞
DTSTART:20230131T100000
END:VEVENT
END:VCALENDAR