BEGIN:VCALENDAR
VERSION:2.0
PRODID:-//hacksw/handcal//NONSGML v1.0//EN
CALSCALE:GREGORIAN
BEGIN:VEVENT
DTEND:20221207T120000
UID:8d7a9bf9b93231f8aeb7052b7b302b11
DTSTAMP:1776766421
DESCRIPTION:通過現代安全操作方法和身邊可操作的威脅情報，檢測一切實現零信任架構。 透過是次研討會，將可以了解 Google 安全團隊的運作方式，亦會有專家指導如何轉變 SecOps，解釋為什麼零信任應該成為數據保護策略的基礎，得到最新的威脅研究。
URL;VALUE=URI: https://www.wepro180.com/event/13466
SUMMARY:【Google】Security Talks 2022
DTSTART:20221207T090000
END:VEVENT
END:VCALENDAR