BEGIN:VCALENDAR
VERSION:2.0
PRODID:-//hacksw/handcal//NONSGML v1.0//EN
CALSCALE:GREGORIAN
BEGIN:VEVENT
DTEND:20230119T110000
UID:c6d0eceb5d40aa66372d74c605c75483
DTSTAMP:1776602531
DESCRIPTION:隨著軟件複雜性增加，軟體供應鏈漏洞將會影響到每個行業，因此越來越難以集中精力應對下一次黑客攻擊或破壞。企業比以往任何時候都更需要一個安全框架來最大限度地降低風險。是次研討會將教你使用 SLSA 框架上的 Google Cloud 解決方案保護從企業到客戶的一切數據。
URL;VALUE=URI: https://www.wepro180.com/event/13940
SUMMARY:【Google】解決軟體供應鏈安全問題
DTSTART:20230119T100000
END:VEVENT
END:VCALENDAR