BEGIN:VCALENDAR
VERSION:2.0
PRODID:-//hacksw/handcal//NONSGML v1.0//EN
CALSCALE:GREGORIAN
BEGIN:VEVENT
DTEND:20230117T163000
UID:6313681e15973e153849df797c05a137
DTSTAMP:1776760732
DESCRIPTION:由 AWS 技術專家共享最新趨勢資訊，並深度聚焦在焦點服務功能，零距離了解掌握產業需求。 活動包括 12 場分組會議討論，發布 AWS 2023 年新產品及服務；亦有互動展覽，展出行業最新解決方案，包括 FSI &amp; FinTech、PropTech &amp; ESG、Retail、Web3 &amp; GameTech 等；更可以與專家進行面對面交流諮詢。
URL;VALUE=URI: https://www.wepro180.com/event/14098
SUMMARY:AWS 雲端科技發表會 re:Cap 香港站
DTSTART:20230117T093000
END:VEVENT
END:VCALENDAR