BEGIN:VCALENDAR
VERSION:2.0
PRODID:-//hacksw/handcal//NONSGML v1.0//EN
CALSCALE:GREGORIAN
BEGIN:VEVENT
DTEND:20230322T083000
UID:c3c4cb150d64ecdcce08501f9ca9974a
DTSTAMP:1777047071
DESCRIPTION:Thales 與 Microsoft 智能安全協會 (MISA) 成員 archTIS 合作，將 CipherTrust Manager 與 NC Encrypt 整合，提供高級數據安全作為 Microsoft Purview 信息保護產品的一部分。 CipherTrust Manager 與 NC Encrypt 為使用 Microsoft Azure 的客戶提供了一個可行的解決方案，將密鑰與雲中的數據分開，好處包括： 客戶可以使用 M365 的全部功能，同時保留自己的數字主權， 符合當地數據隱私和安全法規，如 GDPR、PCI-DSS 和各國政府指引 獨立管理雲外的加密密鑰 利用 CipherTrust Manager 連接到現有的 HSM 提供集中、可擴展且基於標準的加密密鑰管理
URL;VALUE=URI: https://www.wepro180.com/event/15145
SUMMARY:【Webinar】教你使用 Microsoft 365 保護業務關鍵內容
DTSTART:20230322T080000
END:VEVENT
END:VCALENDAR