BEGIN:VCALENDAR
VERSION:2.0
PRODID:-//hacksw/handcal//NONSGML v1.0//EN
CALSCALE:GREGORIAN
BEGIN:VEVENT
DTEND:20230323T000000
UID:ce3c076545359edb33a5cf37b67ec261
DTSTAMP:1777052826
DESCRIPTION:網絡威脅使企業面臨危機，當務之急是管理網絡風險。 Google Cloud 2023 年度首個安全講座旨在幫助所有人更好地了解網絡威脅者和潛在攻擊媒介，保護雲轉型，並更快地檢測、調查和響應威脅。在研討會中聽取專家的意見並探索來自 Google Cloud 威脅分析小組（TAG）、Mandiant 和 VirusTotal 的最新威脅情報。
URL;VALUE=URI: https://www.wepro180.com/event/15176
SUMMARY:【Google】Security Talk 2023
DTSTART:20230322T210000
END:VEVENT
END:VCALENDAR