BEGIN:VCALENDAR
VERSION:2.0
PRODID:-//hacksw/handcal//NONSGML v1.0//EN
CALSCALE:GREGORIAN
BEGIN:VEVENT
DTEND:20230328T130000
UID:a795fc93884cbc436efd3586f607118b
DTSTAMP:1776940018
DESCRIPTION:無論要打造 MVP、尋找產品市場契合點還是擴大新客戶規模，都可以參加這個企業盛會，與亞太地區蓬勃發展的創新型初創企業社區建立聯繫。立即登記，與來自各個地區的創始人、Google 專家和技術人才交流，向最優秀的人學習，並探索實施全新雲技術的最佳實踐策略。活動會深入分析有關 AI/ML 的未來、應用程序現代化等。
URL;VALUE=URI: https://www.wepro180.com/event/15196
SUMMARY:【APAC】Google Cloud Scaleup Spotlight
DTSTART:20230328T110000
END:VEVENT
END:VCALENDAR