BEGIN:VCALENDAR
VERSION:2.0
PRODID:-//hacksw/handcal//NONSGML v1.0//EN
CALSCALE:GREGORIAN
BEGIN:VEVENT
DTEND:20230711T100000
UID:479b67fe0cc6da7768e69563aa37f2f9
DTSTAMP:1776759773
DESCRIPTION:活動將聚集雲端、DevOps 和安全領域最受歡迎的專家，分享他們的關鍵見解和獨特觀點。參加「從代碼到雲端網絡安全峰會」，發現可應用於日常工作的實用方法和遠見卓識。 一同與成千上萬的同行一起聆聽超過 25 位演講者的 20 多個主題演講、技術演講、圓桌討論和動手實驗！ 立即報名：https://bit.ly/3Nt4MDO
URL;VALUE=URI: https://www.wepro180.com/event/16707
SUMMARY:【Webinar】從代碼到雲端網絡安全峰會
DTSTART:20230711T090000
END:VEVENT
END:VCALENDAR