BEGIN:VCALENDAR
VERSION:2.0
PRODID:-//hacksw/handcal//NONSGML v1.0//EN
CALSCALE:GREGORIAN
BEGIN:VEVENT
DTEND:20231205T180000
UID:aee3be47a41fd8a0dcbae114e19557e8
DTSTAMP:1776956930
DESCRIPTION:「生成式 AI」成為了 2023 年的熱門詞彙，企業要成功踏入 AI 領域，就需要整理好數據基礎。 透過網絡研討會，將學到以下內容： 使用 Google 創新技術，利用生成式 AI 激活數據。 搭建一個統一的數據及 AI Lakehouse，為所有類型用戶提供動力。 利用 Google 開放生態系統，加快實現價值時間並防止過度依賴或受限於單一方案。 立即報名
URL;VALUE=URI: https://www.wepro180.com/event/18519
SUMMARY:【做好準備】為踏入AI領域打好數據基礎
DTSTART:20231205T170000
END:VEVENT
END:VCALENDAR