BEGIN:VCALENDAR
VERSION:2.0
PRODID:-//hacksw/handcal//NONSGML v1.0//EN
CALSCALE:GREGORIAN
BEGIN:VEVENT
DTEND:20240626T170000
UID:e344afea933b350e4b39a7328254696d
DTSTAMP:1776817908
DESCRIPTION:愈嚟愈多香港企業選擇喺大灣區同其他國內城市擴展業務，保護區內互聯互通嘅數碼基礎設施安全變得至關重要🛡️。要做好呢項工作，就必須先認識日益增加嘅網絡安全風險、現有法規以及即將推出嘅網絡安全法等。 中港網絡安全協會主辦嘅首屆論壇盛會 —「網絡安全論壇 2024」，將匯聚業界領袖、政策制定者同網絡安全專家🗣️，一同探討大灣區以及其他國內城市嘅網絡安全韌性及數據私穩挑戰。立即報名，了解： &#8211; 公私營合作模式喺提升網絡安全能力方面嘅優勢✅&#8211; 如何促進大灣區及其他國內城市嘅網絡安全行業合作與數據分享🤝&#8211; 大灣區及其他國內城市嘅無限商機🔍-《網絡安全（關鍵基礎設施）條例草案》對重點行業（能源、電訊、運輸和金融等）帶來嘅影響💬 活動詳情：日期：2024 年 6 月 26 日時間：09:00 &#8211; 17:00地點：The Ritz-Carlton, Hong Kong 立即報名
URL;VALUE=URI: https://www.wepro180.com/event/20432
SUMMARY:【網絡安全論壇】HKCNSA首屆論壇盛會 共同守護網絡及數據安全
DTSTART:20240626T090000
END:VEVENT
END:VCALENDAR