BEGIN:VCALENDAR
VERSION:2.0
PRODID:-//hacksw/handcal//NONSGML v1.0//EN
CALSCALE:GREGORIAN
BEGIN:VEVENT
DTEND:20220916T170000
UID:210c405613651f1c0472e52326384d63
DTSTAMP:1776940233
DESCRIPTION:在本次網絡研討會中將與 Ingram Micro 合作，介紹 WhatsApp 如何幫助初創企業成長，並由跨國公司 WOZTELL 的 Jose Miguel Espinar 和 Pedro Mary Mejia 主持。 活動將分為兩個部分：1. 解釋 WhatsApp 如何幫助組織發展；2. 透過工作坊創建一個免費的 WOZTELL 帳戶，以開始使用 WhatsApp Business API 中的聊天機器人。 活動內容：－什麼是 WOZTELL －什麼是 WhatsApp Cloud API－為什麼要使用 WhatsApp Cloud API－WhatsApp 用例 營銷：切入點、推動、培育 銷售：銷售流程、跟進 客戶關懷：客戶成功、支持、後勤、財務 自動化、聊天機器人和預設計模板 演示 WhatsApp 機器人 參加者將獲得免費的 WOZTELL 許可證、一本關於如何在初創企業中充分利用 WhatsApp 的電子書，以及參加將於 8 月推出的關於如何成為 WhatsApp 平台管理者的免費課程。
URL;VALUE=URI: https://www.wepro180.com/event/12041
SUMMARY:【Webinar】教你使用WhatsApp 幫助初創企業成長
DTSTART:20220916T160000
END:VEVENT
END:VCALENDAR