BEGIN:VCALENDAR
VERSION:2.0
PRODID:-//hacksw/handcal//NONSGML v1.0//EN
CALSCALE:GREGORIAN
BEGIN:VEVENT
DTEND:20250708T120000
UID:a97b4915c1afdb6bb6bd31b2bcd920e8
DTSTAMP:1776765299
DESCRIPTION:現時互聯網上其實是由機械人（Bots）控制網絡。到了 2025 年，基於人工智能（AI）的幫助，惡意機械人變得更加聰明、更快並且難以被發現，導致網上機械人流量比真人活動多，而當中竟有超過三分一是惡意流量。 參加講座，了解 2025 Bad Bot Report 的最新 ，探討攻擊者如何利用自動化技術大規模發動攻擊，企業應如何反擊。 講座重點包括： 為何惡意機械人流量比真人流量兔？對安全風險有何影響？ 攻擊者如何利用 AI 發動更快、更隱蔽、破壞力更強的攻擊？ 即時偵測和阻止惡意機械人的實用方法同工具，實際案例分享。
URL;VALUE=URI: https://www.wepro180.com/event/23603
SUMMARY:【領先一步】防禦惡意機械人攻擊
DTSTART:20250708T110000
END:VEVENT
END:VCALENDAR