BEGIN:VCALENDAR
VERSION:2.0
PRODID:-//hacksw/handcal//NONSGML v1.0//EN
CALSCALE:GREGORIAN
BEGIN:VEVENT
DTEND:20220929T123000
UID:2ef806faea07d58c5167c6a04d315977
DTSTAMP:1776934997
DESCRIPTION:在 1H 2022 FortiGuard Labs 威脅情況報告中，發現攻擊者依賴許多熟悉的技術和攻擊手法，例如勒索軟件和進程注入。 加入 FortiGuard Live in Asia 系列的第二部分， FortiGuard Labs 威脅情報專家將分享以下內容： 跨垂直行業和地理區域的主要威脅趨勢（SEAHK 和印度） 需要注意的網絡對手所使用的網絡戰術和技術 網絡技能差距和需要解決的挑戰 事件響應 / IT 團隊的網絡安全策略和最佳實踐 通過了解與網絡威脅相關的未來，為自己提供戰勝它們的最佳機會！
URL;VALUE=URI: https://www.wepro180.com/event/12364
SUMMARY:【Webinar】FortiGuard LIVE in ASIA
DTSTART:20220929T113000
END:VEVENT
END:VCALENDAR