BEGIN:VCALENDAR
VERSION:2.0
PRODID:-//hacksw/handcal//NONSGML v1.0//EN
CALSCALE:GREGORIAN
BEGIN:VEVENT
DTEND:20241015T123000
UID:b0dcd62792775e5bc41d4102e9e4b2dd
DTSTAMP:1777031114
DESCRIPTION:隨著數據分散在雲端平台和各種應用程式當中，要確保數據安全和完整變得非常複雜。企業保護數據時需要面對越來越多的挑戰。 參加 Palo Alto Networks 舉辦的 Webinar，了解： 數據安全現狀： 了解利用 SaaS、雲端應用和生成式 AI 工具進行數碼轉型如何影響數據安全，以及保護數據的方法。 數據保護的最佳方法： 學習在去中心化的數碼環境中有效的數據管理和合規策略與工具。 AI 驅動的安全解決方案： 深入了解 Prisma SASE 如何利用 AI 增強數據安全，提供保護而不妨礙用戶體驗。 立即報名
URL;VALUE=URI: https://www.wepro180.com/event/21481
SUMMARY:【SASE Masterclass】Data Security for the Digital Age
DTSTART:20241015T113000
END:VEVENT
END:VCALENDAR