BEGIN:VCALENDAR
VERSION:2.0
PRODID:-//hacksw/handcal//NONSGML v1.0//EN
CALSCALE:GREGORIAN
BEGIN:VEVENT
DTEND:20241105T160000
UID:dbb0e9b2f901bc5c551c2dc0faec5c2c
DTSTAMP:1776766426
DESCRIPTION:巡迴超過 20 個國家、累計超過 3 萬位企業 IT Manager 參與，Synology 年度企業盛會 Synology Solution Day 2024 即將在香港舉行！活動主題將針對進階儲存、團隊生產力、資料安全保護，到智慧影像監控與雲端服務，助參加者了解如何提升企業資料管理效率，並釋放營運產能。 立即報名
URL;VALUE=URI: https://www.wepro180.com/event/21549
SUMMARY:【年度盛會】Synology Solution Day 2024
DTSTART:20241105T113000
END:VEVENT
END:VCALENDAR